BEGIN:VCALENDAR
VERSION:2.0
PRODID:-//ArtCoLab | Design Studio, Gallery, Store - ECPv6.15.20//NONSGML v1.0//EN
CALSCALE:GREGORIAN
METHOD:PUBLISH
X-ORIGINAL-URL:https://artcolab.com
X-WR-CALDESC:Events for ArtCoLab | Design Studio, Gallery, Store
REFRESH-INTERVAL;VALUE=DURATION:PT1H
X-Robots-Tag:noindex
X-PUBLISHED-TTL:PT1H
BEGIN:VTIMEZONE
TZID:UTC
BEGIN:STANDARD
TZOFFSETFROM:+0000
TZOFFSETTO:+0000
TZNAME:UTC
DTSTART:20150101T000000
END:STANDARD
END:VTIMEZONE
BEGIN:VEVENT
DTSTART;TZID=UTC:20161209T170000
DTEND;TZID=UTC:20161209T200000
DTSTAMP:20260421T120126
CREATED:20160721T021152Z
LAST-MODIFIED:20160721T021152Z
UID:3028-1481302800-1481313600@artcolab.com
SUMMARY:ArtWalk / Arts & Culture Alliance / Coeur d'Alene Idaho
DESCRIPTION:December 9 / Featured Gallery: Blackwell Gallery \n5:00-8:00pm every second Friday of the month\, April-December\, stroll through beautiful Downtown Coeur d’Alene and enjoy local and nationally acclaimed artists. Visit supporting galleries\, shops\, restaurants\, and businesses. A free family-friendly event!
URL:https://artcolab.com/event/artwalk-arts-culture-alliance-coeur-dalene-idaho-5/
LOCATION:Coeur d’ Alene Arts & Culture Alliance\, Downtown Sherman ave\, Coeur d' Alene \, ID\, 83814\, United States
CATEGORIES:North Idaho Events
END:VEVENT
BEGIN:VEVENT
DTSTART;TZID=UTC:20161111T170000
DTEND;TZID=UTC:20161111T200000
DTSTAMP:20260421T120126
CREATED:20160721T020900Z
LAST-MODIFIED:20160721T021612Z
UID:3026-1478883600-1478894400@artcolab.com
SUMMARY:ArtWalk / Arts & Culture Alliance / Coeur d'Alene Idaho
DESCRIPTION:November 11 / Featured Gallery: Studio 107 \n5:00-8:00pm every second Friday of the month\, April-December\, stroll through beautiful Downtown Coeur d’Alene and enjoy local and nationally acclaimed artists. Visit supporting galleries\, shops\, restaurants\, and businesses. A free family-friendly event!
URL:https://artcolab.com/event/artwalk-arts-culture-alliance-coeur-dalene-idaho-4/
LOCATION:Coeur d’ Alene Arts & Culture Alliance\, Downtown Sherman ave\, Coeur d' Alene \, ID\, 83814\, United States
CATEGORIES:North Idaho Events
END:VEVENT
BEGIN:VEVENT
DTSTART;TZID=UTC:20161014T170000
DTEND;TZID=UTC:20161014T200000
DTSTAMP:20260421T120126
CREATED:20160721T020457Z
LAST-MODIFIED:20160721T020457Z
UID:3024-1476464400-1476475200@artcolab.com
SUMMARY:ArtWalk / Arts & Culture Alliance / Coeur d'Alene Idaho
DESCRIPTION:October 14 / Featured Gallery: Emerge / Art from the Heart Month \n5:00-8:00pm every second Friday of the month\, April-December\, stroll through beautiful Downtown Coeur d’Alene and enjoy local and nationally acclaimed artists. Visit supporting galleries\, shops\, restaurants\, and businesses. A free family-friendly event!
URL:https://artcolab.com/event/artwalk-arts-culture-alliance-coeur-dalene-idaho-3/
LOCATION:Coeur d’ Alene Arts & Culture Alliance\, Downtown Sherman ave\, Coeur d' Alene \, ID\, 83814\, United States
CATEGORIES:North Idaho Events
END:VEVENT
BEGIN:VEVENT
DTSTART;TZID=UTC:20160916T050000
DTEND;TZID=UTC:20160916T210000
DTSTAMP:20260421T120126
CREATED:20160914T025258Z
LAST-MODIFIED:20160914T025258Z
UID:3894-1474002000-1474059600@artcolab.com
SUMMARY:PARK(ING) IT ON SHERMAN – BLOCK PARTY
DESCRIPTION:When: Friday\, September 16\, 5:00 PM-9:00 PM \nThe 1200 block of Sherman Avenue will host a FREE block party and parking spaces will be turned into public spaces as part of global Park(ing) Day. This second annual event is part of the visioning and master planning effort to revitalize East Sherman. Event highlights including music\, an outdoor movie\, live mural painting\, a pop-up town hall meeting\, and other entertainment. The headliner will be reggae band Sol Seed Friday starting at 5pm ($5 admission for this concert only). Schedule of events soon to follow! \nSee More
URL:https://artcolab.com/event/parking-sherman-block-party/
LOCATION:Downtown Coeur d’Alene\, Sherman Ave.\, Coeur d'Alene\, ID\, 83814\, United States
CATEGORIES:North Idaho Events
END:VEVENT
BEGIN:VEVENT
DTSTART;TZID=UTC:20160909T170000
DTEND;TZID=UTC:20160909T200000
DTSTAMP:20260421T120126
CREATED:20160721T020153Z
LAST-MODIFIED:20160721T020153Z
UID:3021-1473440400-1473451200@artcolab.com
SUMMARY:ArtWalk / Arts & Culture Alliance / Coeur d'Alene Idaho
DESCRIPTION:September 9 / Featured Gallery: The Art Spirit Gallery \n5:00-8:00pm every second Friday of the month\, April-December\, stroll through beautiful Downtown Coeur d’Alene and enjoy local and nationally acclaimed artists. Visit supporting galleries\, shops\, restaurants\, and businesses. A free family-friendly event!
URL:https://artcolab.com/event/artwalk-arts-culture-alliance-coeur-dalene-idaho-2/
LOCATION:Coeur d’ Alene Arts & Culture Alliance\, Downtown Sherman ave\, Coeur d' Alene \, ID\, 83814\, United States
CATEGORIES:North Idaho Events
END:VEVENT
BEGIN:VEVENT
DTSTART;TZID=UTC:20160824T100000
DTEND;TZID=UTC:20160828T220000
DTSTAMP:20260421T120126
CREATED:20160818T010340Z
LAST-MODIFIED:20160818T010340Z
UID:3841-1472032800-1472421600@artcolab.com
SUMMARY:NORTH IDAHO STATE FAIR
DESCRIPTION:The Fairgrounds is a dynamic\, year-round event facility where North Idaho comes to celebrate!
URL:https://artcolab.com/event/north-idaho-state-fair/
LOCATION:North Idaho State Fair\, 4056 N. Government Way\, Coeur d'Alene\, ID\, 83815\, United States
CATEGORIES:North Idaho Events
END:VEVENT
BEGIN:VEVENT
DTSTART;TZID=UTC:20160812T170000
DTEND;TZID=UTC:20160812T200000
DTSTAMP:20260421T120126
CREATED:20160721T015049Z
LAST-MODIFIED:20160721T015049Z
UID:3011-1471021200-1471032000@artcolab.com
SUMMARY:Annual Artwork Coeur d' Alene\, Idaho
DESCRIPTION:August 12 / Featured Gallery: The Painter’s Chair Fine Art Gallery \n5:00-8:00pm every second Friday of the month\, April-December\, stroll through beautiful Downtown Coeur d’Alene and enjoy local and nationally acclaimed artists. Visit supporting galleries\, shops\, restaurants\, and businesses. A free family-friendly event!
URL:https://artcolab.com/event/annual-artwork-coeur-d-alene-idaho/
LOCATION:Coeur d’ Alene Arts & Culture Alliance\, Downtown Sherman ave\, Coeur d' Alene \, ID\, 83814\, United States
CATEGORIES:North Idaho Events
END:VEVENT
BEGIN:VEVENT
DTSTART;TZID=UTC:20160805T080000
DTEND;TZID=UTC:20160807T170000
DTSTAMP:20260421T120126
CREATED:20160805T014109Z
LAST-MODIFIED:20160805T014207Z
UID:3608-1470384000-1470589200@artcolab.com
SUMMARY:ArtCoLab On The Green | ArtColab
DESCRIPTION:  \nArtColab on the Green\, this weekend August 5th – 7th downtown Coeur d’Alene\, Idaho on the green space 6th St. and Sherman Ave…. Join us and NOHO Longboards Jerm Designs Born Invincible Design Pepe’s Underground Skateboard Kitchen and pick up some Montana paint too! Come by and listen to some good music\, grab a cerveza and buy some art from some locals! Live art will be going down on custom long boards by Ryan Allen and 80s original decks by Jeremy Deming and Scott Lakeyprovided by Michael Nathan Wixom
URL:https://artcolab.com/event/artcolab-on-the-green/
LOCATION:ArtCoLab\, 6th & Sherman \, Coeur d' Alene\, ID\, 83814\, United States
CATEGORIES:North Idaho Events
ATTACH;FMTTYPE=image/jpeg:https://artcolab.com/wp-content/uploads/2016/08/13920334_881776618632357_1185980431570680345_o.jpg
END:VEVENT
BEGIN:VEVENT
DTSTART;TZID=UTC:20160805T080000
DTEND;TZID=UTC:20160807T170000
DTSTAMP:20260421T120126
CREATED:20160721T022142Z
LAST-MODIFIED:20160721T022142Z
UID:3030-1470384000-1470589200@artcolab.com
SUMMARY:ART ON THE GREEN 2016
DESCRIPTION:Art on the Green is an arts and crafts outdoor festival sponsored by Citizens’ Council for the Arts\, a non-profit corporation of interested volunteers formed to encourage and promote the arts. Fees and commissions help to pay the costs of the festival. Active participation by all interested members of the community is invited and encouraged.
URL:https://artcolab.com/event/art-green-2016/
LOCATION:North Idaho College\, North Idaho College\, Coeur d' Alene\, ID\, 83814\, United States
CATEGORIES:North Idaho Events
END:VEVENT
BEGIN:VEVENT
DTSTART;TZID=UTC:20160801T080000
DTEND;TZID=UTC:20160812T170000
DTSTAMP:20260421T120126
CREATED:20160725T053527Z
LAST-MODIFIED:20160725T053527Z
UID:3158-1470038400-1471021200@artcolab.com
SUMMARY:Art Music & Arduinos at the Gizmo Cda\, ID
DESCRIPTION:Bring the art on the wall to life with programming and circuits. Two-week class. The first week learn about programming and sound and the second week spent time in the studios producing a piece of art that can light up and make music using the programming techniques learned during the first week\, Girls Only 13 – 18 years old Programming\, art\, and music
URL:https://artcolab.com/event/art-music-arduinos-at-the-gizmo/
LOCATION:Gizmo-Cda\, 806 N. 4th Street\, Coeur d' Alene \, ID\, 83814\, United States
CATEGORIES:North Idaho Events
END:VEVENT
BEGIN:VEVENT
DTSTART;TZID=UTC:20160730T190000
DTEND;TZID=UTC:20160730T210000
DTSTAMP:20260421T120126
CREATED:20160725T050536Z
LAST-MODIFIED:20160725T053739Z
UID:3149-1469905200-1469912400@artcolab.com
SUMMARY:Paint and Sip! Cool Summer Night Painting
DESCRIPTION:Here’s to the nights where the sand is your seat\, the waves kiss your feet\, and even the chilliest of nights are still warmer than the cold one in your hand! \nJoin us at our studio while we walk you through this painting step by step. No art experience required – all of our paintings are made for beginners! \nMust be 21 or older. Please present ID at the door. \nReserve your easel here!
URL:https://artcolab.com/event/paint-and-sip-cool-summer-night-painting/
LOCATION:Pinot’s Palette\,  728 N 4th Street\, Coeur d' Alene \, ID\, 83814\, United States
CATEGORIES:North Idaho Events
END:VEVENT
BEGIN:VEVENT
DTSTART;TZID=UTC:20160725T183000
DTEND;TZID=UTC:20160725T203000
DTSTAMP:20260421T120126
CREATED:20160725T052722Z
LAST-MODIFIED:20160725T052722Z
UID:3153-1469471400-1469478600@artcolab.com
SUMMARY:Muddy Monday's at the Gizmo in CDA\, ID
DESCRIPTION:Muddy Mondays are an open clay studio night. Buy a Tinker membership and hang out with the people who have mud on their face for a month. Peer to Peer\, no instructor. Monday from 6:30-8:30 PM. Clay extra. Mondays\, on going…..
URL:https://artcolab.com/event/muddy-mondays/
LOCATION:Gizmo-Cda\, 806 N. 4th Street\, Coeur d' Alene \, ID\, 83814\, United States
CATEGORIES:North Idaho Events
END:VEVENT
END:VCALENDAR